BEGIN:VCALENDAR
PRODID:-//hacksw/handcal//NONSGML v1.0//EN
VERSION:2.0
METHOD:PUBLISH
BEGIN:VEVENT
DTSTART:20181108T223000Z
DTEND:20181108T233000Z
LOCATION:Jaspan Schlesinger LLP-300 Garden City Plaza, Garden City, NY 11530
UID:1645420181108T223000ZSTUDY GROUP-Webinar- "Powers of Appointment"
DTSTAMP:20260425T173729Z
DESCRIPTION:\nIf you wish to attend, please RSVP online at [www.epcnassau.org](https://eur03.safelinks.protection.outlook.com/?url=http%3A%2F%2Fwww.epcnassau.org%2F&data=02%7C01%7C%7C01041cf441d849fba2d208d5e10cfd3d%7C84df9e7fe9f640afb435aaaaaaaaaaaa%7C1%7C0%7C636662368255265481&sdata=NyDHKPA%2FHrmiCPd91dehlF8cGFYAZXRF%2FU4Kk9NYM7w%3D&reserved=0)  or to our Committee Chairperson:\n \nMichael P. Ryan, Esq.\n \n      516-393-8253\n \n mpryan@jaspanllp.com \n
SUMMARY:STUDY GROUP-Webinar- "Powers of Appointment" - Estate Planning Council of Long Island 
PRIORITY:3
BEGIN:VALARM
TRIGGER:PT18H
ACTION:DISPLAY
DESCRIPTION:Reminder
END:VALARM
END:VEVENT
END:VCALENDAR