BEGIN:VCALENDAR
PRODID:-//hacksw/handcal//NONSGML v1.0//EN
VERSION:2.0
METHOD:PUBLISH
BEGIN:VEVENT
DTSTART:20180906T213000Z
DTEND:20180906T223000Z
LOCATION:Jaspan Schlesinger LLP-300 Garden City Plaza, Garden City, NY 11530
UID:1645220180906T213000ZSTUDY GROUP-Webinar- "What the Estate Planner Needs to Know about Roth Retirement" Plans"
DTSTAMP:20260425T174139Z
DESCRIPTION:\nIf you wish to attend, please RSVP online at [www.epcnassau.org](https://nam04.safelinks.protection.outlook.com/?url=http%3A%2F%2Fwww.epcnassau.org%2F&data=02%7C01%7C%7C5b4e6594cb8d440fbc3708d5cb1c8226%7C84df9e7fe9f640afb435aaaaaaaaaaaa%7C1%7C0%7C636638245660487676&sdata=DAglM9%2BNfRciKxXKIUAYSA92WoC11qb%2F6QJXZVn27ac%3D&reserved=0)  or to our Committee Chairperson:\n \nMichael P. Ryan, Esq.\n \n      516-393-8253\n \n mpryan@jaspanllp.com\n
SUMMARY:STUDY GROUP-Webinar- "What the Estate Planner Needs to Know about Roth Retirement" Plans" - Estate Planning Council of Long Island 
PRIORITY:3
BEGIN:VALARM
TRIGGER:PT18H
ACTION:DISPLAY
DESCRIPTION:Reminder
END:VALARM
END:VEVENT
END:VCALENDAR