BEGIN:VCALENDAR
PRODID:-//hacksw/handcal//NONSGML v1.0//EN
VERSION:2.0
METHOD:PUBLISH
BEGIN:VEVENT
DTSTART:20180816T213000Z
DTEND:20180816T223000Z
LOCATION:Jaspan Schlesinger- 300 Garden City Plaza, Garden City, NY 11530 
UID:1643720180816T213000ZSTUDY GROUP- Webinar- "Alternatives to Self-Settled Trusts
DTSTAMP:20260425T173209Z
DESCRIPTION:\nIf you wish to attend, please RSVP online at [www.epcnassau.org](https://eur03.safelinks.protection.outlook.com/?url=http%3A%2F%2Fwww.epcnassau.org%2F&data=02%7C01%7C%7Ca778eb37a9b94c7ca28908d5aabbe924%7C84df9e7fe9f640afb435aaaaaaaaaaaa%7C1%7C0%7C636602646396636683&sdata=3RFG8vwWqQQlGnSZK1koNSQcD9BbVwqp6%2FHcPHFO7O0%3D&reserved=0)  or to our Committee Chairperson:\n \nMichael P. Ryan, Esq.\n \n      516-393-8253\n \n mpryan@jaspanllp.com \n
SUMMARY:STUDY GROUP- Webinar- "Alternatives to Self-Settled Trusts - Estate Planning Council of Long Island 
PRIORITY:3
BEGIN:VALARM
TRIGGER:PT18H
ACTION:DISPLAY
DESCRIPTION:Reminder
END:VALARM
END:VEVENT
END:VCALENDAR