BEGIN:VCALENDAR
PRODID:-//hacksw/handcal//NONSGML v1.0//EN
VERSION:2.0
METHOD:PUBLISH
BEGIN:VEVENT
DTSTART:20180215T133000Z
DTEND:20180215T150000Z
LOCATION:Westbury Manor
UID:1573420180215T133000ZBreakfast Meeting- “Overview of the Tax Cuts and Jobs Act, dated 12/22/2017”
DTSTAMP:20260425T173538Z
DESCRIPTION:\n Our Moderator is James P. O'Connor, Esq., AEP®- Albrecht Viggiano Zureck & Co., P.C. \n
SUMMARY:Breakfast Meeting- “Overview of the Tax Cuts and Jobs Act, dated 12/22/2017” - Estate Planning Council of Long Island 
PRIORITY:3
BEGIN:VALARM
TRIGGER:PT18H
ACTION:DISPLAY
DESCRIPTION:Reminder
END:VALARM
END:VEVENT
END:VCALENDAR