BEGIN:VCALENDAR
PRODID:-//hacksw/handcal//NONSGML v1.0//EN
VERSION:2.0
METHOD:PUBLISH
BEGIN:VEVENT
DTSTART:20180419T123000Z
DTEND:20180419T140000Z
LOCATION:The Nassau County Bar Association- Mineola, NY
UID:1543920180419T123000ZBreakfast Meeting- "Surrogates' Update"
DTSTAMP:20260425T173713Z
DESCRIPTION:\nWe would like to Thank the American Cancer Society for their Sponsorship of this event.\n \n \n \nOur Update Speaker is Lisa Rispoli, CPA, AEP- Grassi & Co.\nPartner-in-Charge of Trust and Estate Services\n \n“Fiduciary Tax and Accounting Update”\n \n \n \nPlease Note:\n \nContinuing Education Credit will not be available for this meeting.\n \n \n \n \n
SUMMARY:Breakfast Meeting- "Surrogates' Update" - Estate Planning Council of Long Island 
PRIORITY:3
BEGIN:VALARM
TRIGGER:PT18H
ACTION:DISPLAY
DESCRIPTION:Reminder
END:VALARM
END:VEVENT
END:VCALENDAR