BEGIN:VCALENDAR
PRODID:-//hacksw/handcal//NONSGML v1.0//EN
VERSION:2.0
METHOD:PUBLISH
BEGIN:VEVENT
DTSTART:20180315T213000Z
DTEND:20180316T000000Z
LOCATION:Chateau Briand- 440 Old Country Road, Carle Place, NY 11514
UID:1543720180315T213000ZDinner Meeting- “Phishing, Scams and Identity Theft”
DTSTAMP:20260425T173019Z
DESCRIPTION:\nOur Moderator is Alan E. Weiner,CPA, JD, LL.M\n \nâOur Update Speaker is Noelle Geiger, Esq.- Director and Principal of Tax Controversy Services\nGrassi & Co. | Jericho Office- "NYS Residency Issues in Light of Recent Federal Tax Law Changes".\n
SUMMARY:Dinner Meeting- “Phishing, Scams and Identity Theft” - Estate Planning Council of Long Island 
PRIORITY:3
BEGIN:VALARM
TRIGGER:PT18H
ACTION:DISPLAY
DESCRIPTION:Reminder
END:VALARM
END:VEVENT
END:VCALENDAR