BEGIN:VCALENDAR
PRODID:-//hacksw/handcal//NONSGML v1.0//EN
VERSION:2.0
METHOD:PUBLISH
BEGIN:VEVENT
DTSTART:20180118T223000Z
DTEND:20180119T013000Z
LOCATION:Chateau Briand- 440 Old Country Road, Carle Place, New York , 11514
UID:1543620180118T223000ZDinner Meeting- “Love, Sex, Money, Marriage, and Death: Estate Planning Aspects of Divorce”  
DTSTAMP:20260425T174140Z
DESCRIPTION:\nOur Update Speaker is John Shillingsford, CPA/ABV, CFE- Albrecht, Viggiano, Zureck & Company, P.C. \n \n"The Mechanics of the New Pass-Through Entity Tax Deduction" \n \n \n \nWe would like to thank our sponsor:\n \nBNY Mellon Wealth Management\n \n \n
SUMMARY:Dinner Meeting- “Love, Sex, Money, Marriage, and Death: Estate Planning Aspects of Divorce”   - Estate Planning Council of Long Island 
PRIORITY:3
BEGIN:VALARM
TRIGGER:PT18H
ACTION:DISPLAY
DESCRIPTION:Reminder
END:VALARM
END:VEVENT
END:VCALENDAR