BEGIN:VCALENDAR
PRODID:-//hacksw/handcal//NONSGML v1.0//EN
VERSION:2.0
METHOD:PUBLISH
BEGIN:VEVENT
DTSTART:20171221T133000Z
DTEND:20171221T150000Z
LOCATION:Westbury Manor-1100 Jericho Turnpike, Westbury, NY
UID:1543520171221T133000ZBreakfast Meeting- “Private (Family) Split Dollar
DTSTAMP:20260425T173538Z
DESCRIPTION:\nOur Update Speaker is Jim Peluso, CTFA, AEP® - “Basics of the EPC Nassau Website”\n \nâWe would like to thank our Sponsor:\n \nâCandles for Hope\n \n \n \n \n \n*Board Meeting @8:00 AM.\n
SUMMARY:Breakfast Meeting- “Private (Family) Split Dollar - Estate Planning Council of Long Island 
PRIORITY:3
BEGIN:VALARM
TRIGGER:PT18H
ACTION:DISPLAY
DESCRIPTION:Reminder
END:VALARM
END:VEVENT
END:VCALENDAR