BEGIN:VCALENDAR
PRODID:-//hacksw/handcal//NONSGML v1.0//EN
VERSION:2.0
METHOD:PUBLISH
BEGIN:VEVENT
DTSTART:20171116T223000Z
DTEND:20171117T013000Z
LOCATION:Chateau Briand- 440 Old Country Road, Carle Place, New York 11514
UID:1543420171116T223000ZDinner Meeting- “Generation Skipping Transfer Tax”
DTSTAMP:20260425T174227Z
DESCRIPTION:\nOur Update Speaker is Melissa Gonzalez, CPA, AEP giving an "Individual Tax Law Update"\n \nâWe would like to thank our sponsor:\n \nâMazars USA, LLP\n
SUMMARY:Dinner Meeting- “Generation Skipping Transfer Tax” - Estate Planning Council of Long Island 
PRIORITY:3
BEGIN:VALARM
TRIGGER:PT18H
ACTION:DISPLAY
DESCRIPTION:Reminder
END:VALARM
END:VEVENT
END:VCALENDAR