BEGIN:VCALENDAR
PRODID:-//hacksw/handcal//NONSGML v1.0//EN
VERSION:2.0
METHOD:PUBLISH
BEGIN:VEVENT
DTSTART:20171019T123000Z
DTEND:20171019T140000Z
LOCATION:The Nassau County Bar Association- 15th and West Streets, Mineola, NY 11501 
UID:1543320171019T123000ZBreakfast Meeting- “Asset Protection Trusts”
DTSTAMP:20260425T172831Z
DESCRIPTION:\nOur Update Speaker is Alan E. Weiner, CPA, J.D., LL.M.- Baker Tilly Virchow Krause, LLP\n \n“The New Rules for IRS Tax Audits of Partnerships”\n \n \n \nâWe would like to thank our Sponsor:\n \nPrager Metisâ\n \n \n
SUMMARY:Breakfast Meeting- “Asset Protection Trusts” - Estate Planning Council of Long Island 
PRIORITY:3
BEGIN:VALARM
TRIGGER:PT18H
ACTION:DISPLAY
DESCRIPTION:Reminder
END:VALARM
END:VEVENT
END:VCALENDAR