BEGIN:VCALENDAR
PRODID:-//hacksw/handcal//NONSGML v1.0//EN
VERSION:2.0
METHOD:PUBLISH
BEGIN:VEVENT
DTSTART:20180412T213000Z
DTEND:20180412T223000Z
LOCATION:Jaspan Schlesinger LLP-300 Garden City Plaza, Garden City, NY 11530 
UID:1506520180412T213000ZSTUDY GROUP-Webinar- "High Tax Free Compounded Returns: The Keys to Building Wealth and Accomplishing Significant Financial Planning "
DTSTAMP:20260425T172657Z
DESCRIPTION:\nIf you wish to attend, please RSVP online at [www.epcnassau.org](http://www.epcnassau.org/)  or to our Committee Chairperson:\n \nMichael P. Ryan, Esq.\n \n      516-393-8253\n \n mpryan@jaspanllp.com \n
SUMMARY:STUDY GROUP-Webinar- "High Tax Free Compounded Returns: The Keys to Building Wealth and Accomplishing Significant Financial Planning " - Estate Planning Council of Long Island 
PRIORITY:3
BEGIN:VALARM
TRIGGER:PT18H
ACTION:DISPLAY
DESCRIPTION:Reminder
END:VALARM
END:VEVENT
END:VCALENDAR