BEGIN:VCALENDAR
PRODID:-//hacksw/handcal//NONSGML v1.0//EN
VERSION:2.0
METHOD:PUBLISH
BEGIN:VEVENT
DTSTART:20180322T213000Z
DTEND:20180322T223000Z
LOCATION:Jaspan Schlesinger LLP-300 Garden City Plaza, Garden City, NY 11530
UID:1506420180322T213000ZSTUDY GROUP- Non-Tax Developments of Interest to Estate Planners: An Overview of Recent Cases of Significance for all Estate Planning Professionals
DTSTAMP:20260425T173348Z
DESCRIPTION:\nIf you wish to attend, please RSVP online at [www.epcnassau.org](http://www.epcnassau.org/)  or to our Committee Chairperson:\n \nMichael P. Ryan, Esq.\n \n      516-393-8253\n \n mpryan@jaspanllp.com \n
SUMMARY:STUDY GROUP- Non-Tax Developments of Interest to Estate Planners: An Overview of Recent Cases of Significance for all Estate Planning Professionals - Estate Planning Council of Long Island 
PRIORITY:3
BEGIN:VALARM
TRIGGER:PT18H
ACTION:DISPLAY
DESCRIPTION:Reminder
END:VALARM
END:VEVENT
END:VCALENDAR