BEGIN:VCALENDAR
PRODID:-//hacksw/handcal//NONSGML v1.0//EN
VERSION:2.0
METHOD:PUBLISH
BEGIN:VEVENT
DTSTART:20180222T223000Z
DTEND:20180222T233000Z
LOCATION:Jaspan Schlesinger LLP-300 Garden City Plaza, Garden City, NY 11530 
UID:1506320180222T223000ZSTUDY GROUP- Webinar- "Pulling a Rabbit Out of the GRAT Hat: Some of the Most Creative Structural GRAT Planning Ideas We See Out There"
DTSTAMP:20260425T173221Z
DESCRIPTION:\nIf you wish to attend, please RSVP online at [www.epcnassau.org](http://www.epcnassau.org/)  or to our Committee Chairperson:\n \nMichael P. Ryan, Esq.\n \n      516-393-8253\n \n mpryan@jaspanllp.com \n
SUMMARY:STUDY GROUP- Webinar- "Pulling a Rabbit Out of the GRAT Hat: Some of the Most Creative Structural GRAT Planning Ideas We See Out There" - Estate Planning Council of Long Island 
PRIORITY:3
BEGIN:VALARM
TRIGGER:PT18H
ACTION:DISPLAY
DESCRIPTION:Reminder
END:VALARM
END:VEVENT
END:VCALENDAR