BEGIN:VCALENDAR
PRODID:-//hacksw/handcal//NONSGML v1.0//EN
VERSION:2.0
METHOD:PUBLISH
BEGIN:VEVENT
DTSTART:20171018T213000Z
DTEND:20171018T223000Z
LOCATION:Gettry Marcus, CPA, P.C.- 88 Froehlich Farm Blvd Ste 300, Woodbury, NY 11797 - (516) 364-3390 - gettrymarcus.com
UID:1504020171018T213000ZSTUDY GROUP- "How to Destroy (or Resurrect) Value – Navigating the Mine Fields of Valuation"
DTSTAMP:20260425T173159Z
DESCRIPTION:\nIf you wish to attend, please RSVP online at [www.epcnassau.org](http://www.epcnassau.org/)  or to our Committee Chairperson:\n \nMichael P. Ryan, Esq.\n \n      516-393-8253\n \n mpryan@jaspanllp.com \n
SUMMARY:STUDY GROUP- "How to Destroy (or Resurrect) Value – Navigating the Mine Fields of Valuation" - Estate Planning Council of Long Island 
PRIORITY:3
BEGIN:VALARM
TRIGGER:PT18H
ACTION:DISPLAY
DESCRIPTION:Reminder
END:VALARM
END:VEVENT
END:VCALENDAR