BEGIN:VCALENDAR
PRODID:-//hacksw/handcal//NONSGML v1.0//EN
VERSION:2.0
METHOD:PUBLISH
BEGIN:VEVENT
DTSTART:20170918T213000Z
DTEND:20170919T000000Z
LOCATION:Westbury Manor- 1100 Jericho Turnpike, Westbury, NY 11590- (516-333-7117)
UID:1497920170918T213000ZDinner Meeting- “Planning for Estates < $10 Million”
DTSTAMP:20260425T171650Z
DESCRIPTION:\nWe would like to thank our Sponsor:\n \nFirst Republic Trust Company\n \nPLEASE NOTE:\n \nCommencing with the 2017-18 fiscal year, The Estate Planning Council of Nassau County, Inc. (the “Council”) is endeavoring to qualify the featured presentations at its monthly meetings for CPE/CLE/CE/etc. credits in order to offer its members the opportunity to obtain professional educational credits as an additional benefit for attending. \n \nPlease be advised, however, that:\n \n1.       Due to the specific qualification requirements for certain credits, each meeting may not qualify for every credit due to reasons beyond the control of the Council; and\n \n2.       A particular presentation’s qualification for such credits will be determined after the meeting by third party sponsors.\n \nAccordingly, while the Council shall use its best efforts to attempt to qualify each presentation for the professional educational credits listed above, qualification cannot be guaranteed.\n
SUMMARY:Dinner Meeting- “Planning for Estates < $10 Million” - Estate Planning Council of Long Island 
PRIORITY:3
BEGIN:VALARM
TRIGGER:PT18H
ACTION:DISPLAY
DESCRIPTION:Reminder
END:VALARM
END:VEVENT
END:VCALENDAR