BEGIN:VCALENDAR
PRODID:-//hacksw/handcal//NONSGML v1.0//EN
VERSION:2.0
METHOD:PUBLISH
BEGIN:VEVENT
DTSTART:20170824T220000Z
DTEND:20170825T010000Z
LOCATION:Northport Yacht Club- Bluff Point Road, Northport, New York, 11768
UID:1494020170824T220000ZSUFFOLK County EPC-August Meeting
DTSTAMP:20260425T171738Z
DESCRIPTION:\nEstate Planning Council of Suffolk County\n \nAnnual Networking Event\n \nThursday August 24th 2017 6pm – 9pm\n \nNorthport Yacht Club\n \nBluff Point Road, Northport, New York, 11768\n \nIt is our pleasure to announce that our Annual Networking Event is returning to\n \nNorthport, NY. This year our summertime setting will be the Northport Yacht Club\n \noverlooking picturesque Northport Harbor with a spectacular vista of the sunset!\n \nPlease join your colleagues, bring your spouse or significant other and/or a guest for\n \nan evening of hors d’oeuvres, cheeses and wine, on the deck overlooking the harbor.*\n \nMany Thanks to our Sponsor for this event:\n \nNational Association of Estate Planners & Councils\n \nNO FEE FOR MEMBERS – GUEST FEE $50.00\n \nPLEASE RSVP: TO sgt0685@gmail.com\n \n[ ] I will attend the Thursday, August 24th 2017 Networking at the Northport Yacht Club.\n \n[ ] I will NOT attend the Thursday, August 24th 2017 Networking at the Northport Yacht Club.\n \n[ ] I will bring a guest(s). ($50.00 per person)\n \n[ ] I am a member of the Estate Planning Council of Nassau County and plan to attend ($50.00 fee)\n \nMEMBER NAME: __________________________________________________________________\n \nGUEST(S) NAME: 1. _________________________________ 2. ______________________________\n
SUMMARY:SUFFOLK County EPC-August Meeting - Estate Planning Council of Long Island 
PRIORITY:3
BEGIN:VALARM
TRIGGER:PT18H
ACTION:DISPLAY
DESCRIPTION:Reminder
END:VALARM
END:VEVENT
END:VCALENDAR